BEGIN:VCALENDAR
VERSION:2.0
PRODID:-//Fysicon NL - ECPv6.15.20//NONSGML v1.0//EN
CALSCALE:GREGORIAN
METHOD:PUBLISH
X-WR-CALNAME:Fysicon NL
X-ORIGINAL-URL:https://www.fysicon.com
X-WR-CALDESC:Evenementen voor Fysicon NL
REFRESH-INTERVAL;VALUE=DURATION:PT1H
X-Robots-Tag:noindex
X-PUBLISHED-TTL:PT1H
BEGIN:VTIMEZONE
TZID:Europe/Amsterdam
BEGIN:DAYLIGHT
TZOFFSETFROM:+0100
TZOFFSETTO:+0200
TZNAME:CEST
DTSTART:20180325T010000
END:DAYLIGHT
BEGIN:STANDARD
TZOFFSETFROM:+0200
TZOFFSETTO:+0100
TZNAME:CET
DTSTART:20181028T010000
END:STANDARD
BEGIN:DAYLIGHT
TZOFFSETFROM:+0100
TZOFFSETTO:+0200
TZNAME:CEST
DTSTART:20190331T010000
END:DAYLIGHT
BEGIN:STANDARD
TZOFFSETFROM:+0200
TZOFFSETTO:+0100
TZNAME:CET
DTSTART:20191027T010000
END:STANDARD
BEGIN:DAYLIGHT
TZOFFSETFROM:+0100
TZOFFSETTO:+0200
TZNAME:CEST
DTSTART:20200329T010000
END:DAYLIGHT
BEGIN:STANDARD
TZOFFSETFROM:+0200
TZOFFSETTO:+0100
TZNAME:CET
DTSTART:20201025T010000
END:STANDARD
BEGIN:DAYLIGHT
TZOFFSETFROM:+0100
TZOFFSETTO:+0200
TZNAME:CEST
DTSTART:20210328T010000
END:DAYLIGHT
BEGIN:STANDARD
TZOFFSETFROM:+0200
TZOFFSETTO:+0100
TZNAME:CET
DTSTART:20211031T010000
END:STANDARD
BEGIN:DAYLIGHT
TZOFFSETFROM:+0100
TZOFFSETTO:+0200
TZNAME:CEST
DTSTART:20220327T010000
END:DAYLIGHT
BEGIN:STANDARD
TZOFFSETFROM:+0200
TZOFFSETTO:+0100
TZNAME:CET
DTSTART:20221030T010000
END:STANDARD
END:VTIMEZONE
BEGIN:VEVENT
DTSTART;VALUE=DATE:20211020
DTEND;VALUE=DATE:20211023
DTSTAMP:20260423T164744
CREATED:20210907T114944Z
LAST-MODIFIED:20230509T133821Z
UID:3327-1634688000-1634947199@www.fysicon.com
SUMMARY:Belgian Heart Rhythm Meeting
DESCRIPTION:Belgian Heart Rhythm Meeting \n20 t/m 22 oktober 2021 \nBrussel\, België \n \nwww.bhrm.be
URL:https://www.fysicon.com/agenda/belgian-heart-rhythm-meeting/
END:VEVENT
BEGIN:VEVENT
DTSTART;VALUE=DATE:20211006
DTEND;VALUE=DATE:20211009
DTSTAMP:20260423T164744
CREATED:20210907T114755Z
LAST-MODIFIED:20230509T133822Z
UID:3321-1633478400-1633737599@www.fysicon.com
SUMMARY:Journées de Rythmologie
DESCRIPTION:Journées de Rythmologie \n6 t/m 8 oktober 2021 \nParijs\, Frankrijk \n \nhttp://www.congres-rythmo.com/
URL:https://www.fysicon.com/agenda/journees-de-rythmologie/
END:VEVENT
BEGIN:VEVENT
DTSTART;VALUE=DATE:20211001
DTEND;VALUE=DATE:20211002
DTSTAMP:20260423T164744
CREATED:20210907T114441Z
LAST-MODIFIED:20230509T133822Z
UID:3316-1633046400-1633132799@www.fysicon.com
SUMMARY:VITHaS symposium
DESCRIPTION:VITHaS symposium \n1 oktober 2021 \nBreukelen\, Nederland \n \nwww.vithas.nl
URL:https://www.fysicon.com/agenda/vithas-symposium/
END:VEVENT
BEGIN:VEVENT
DTSTART;VALUE=DATE:20210423
DTEND;VALUE=DATE:20210426
DTSTAMP:20260423T164744
CREATED:20210205T075257Z
LAST-MODIFIED:20230509T133823Z
UID:3023-1619136000-1619395199@www.fysicon.com
SUMMARY:EHRA 2021 Online Congress
DESCRIPTION:EHRA 2021 Online Congress \n23 – 25 april 2021 \n \nhttps://www.escardio.org/Congresses-&-Events/EHRA-Congress
URL:https://www.fysicon.com/agenda/ehra-2021-online-congress/
END:VEVENT
BEGIN:VEVENT
DTSTART;VALUE=DATE:20201209
DTEND;VALUE=DATE:20201210
DTSTAMP:20260423T164744
CREATED:20200303T100731Z
LAST-MODIFIED:20230509T133824Z
UID:2744-1607472000-1607558399@www.fysicon.com
SUMMARY:MedicalPHIT Congres PACS
DESCRIPTION:MedicalPHIT Congres PACS \n9 december 2020 \nMaarssen\, Nederland \n \nhttps://phit.nl/nl/congres-pacs-trends-imaging
URL:https://www.fysicon.com/agenda/medicalphit-congres-pacs/
END:VEVENT
BEGIN:VEVENT
DTSTART;VALUE=DATE:20200927
DTEND;VALUE=DATE:20201001
DTSTAMP:20260423T164744
CREATED:20200103T074756Z
LAST-MODIFIED:20230509T133825Z
UID:2692-1601164800-1601510399@www.fysicon.com
SUMMARY:Heart Rhythm Congress
DESCRIPTION:27 september – 30 september 2020 \nBirmingham\, Verenigd Koninkrijk \n \nhttp://www.heartrhythmcongress.org/
URL:https://www.fysicon.com/agenda/heart-rhythm-congress-2020/
END:VEVENT
BEGIN:VEVENT
DTSTART;VALUE=DATE:20200715
DTEND;VALUE=DATE:20200720
DTSTAMP:20260423T164744
CREATED:20200420T100053Z
LAST-MODIFIED:20230509T133825Z
UID:2778-1594771200-1595203199@www.fysicon.com
SUMMARY:ECR Annual Meeting (online Congress)
DESCRIPTION:ECR Annual Meeting (online Congress) \n15 juli – 19 juli 2020 \nhttps://www.myesr.org/congress
URL:https://www.fysicon.com/agenda/ecr-annual-meeting-online-congress/
END:VEVENT
BEGIN:VEVENT
DTSTART;VALUE=DATE:20200702
DTEND;VALUE=DATE:20200703
DTSTAMP:20260423T164744
CREATED:20200303T100637Z
LAST-MODIFIED:20200303T100649Z
UID:2739-1593648000-1593734399@www.fysicon.com
SUMMARY:MedicalPHIT Congress Data exchange in healthcare
DESCRIPTION:MedicalPHIT Congress Data exchange in healthcare \nJuly 2 2020 \nMaarssen\, The Netherlands \n\nhttps://phit.nl/nl/congres-gegevensuitwisseling-de-zorg
URL:https://www.fysicon.com/agenda/medicalphit-congress-data-exchange-in-healthcare/
END:VEVENT
BEGIN:VEVENT
DTSTART;VALUE=DATE:20200415
DTEND;VALUE=DATE:20200419
DTSTAMP:20260423T164744
CREATED:20191029T095033Z
LAST-MODIFIED:20191029T095033Z
UID:2616-1586908800-1587254399@www.fysicon.com
SUMMARY:Deutsche Gesellschaft für Kardiologie
DESCRIPTION:Deutsche Gesellschaft für Kardiologie \n15 – 18 april 2020\nMannheim\, Duitsland \n \nhttps://jt2020.dgk.org/
URL:https://www.fysicon.com/agenda/deutsche-gesellschaft-fur-kardiologie/
END:VEVENT
BEGIN:VEVENT
DTSTART;VALUE=DATE:20200329
DTEND;VALUE=DATE:20200401
DTSTAMP:20260423T164744
CREATED:20191107T122356Z
LAST-MODIFIED:20191108T112438Z
UID:2630-1585440000-1585699199@www.fysicon.com
SUMMARY:EHRA
DESCRIPTION:EHRA \n29 maart – 31 maart 2020 \nWenen\, Oostenrijk \n \nhttps://www.escardio.org/Congresses-&-Events/EHRA-Congress
URL:https://www.fysicon.com/agenda/ehra-2020/
END:VEVENT
BEGIN:VEVENT
DTSTART;VALUE=DATE:20200313
DTEND;VALUE=DATE:20200314
DTSTAMP:20260423T164744
CREATED:20200103T074443Z
LAST-MODIFIED:20200103T074608Z
UID:2686-1584057600-1584143999@www.fysicon.com
SUMMARY:CAG
DESCRIPTION:CAG \n13 maart 2020 \nVenlo\, Nederland \n \nhttps://www.cag-venlo.nl/programma
URL:https://www.fysicon.com/agenda/cag-2020/
END:VEVENT
BEGIN:VEVENT
DTSTART;VALUE=DATE:20200110
DTEND;VALUE=DATE:20200111
DTSTAMP:20260423T164744
CREATED:20191008T145908Z
LAST-MODIFIED:20191008T145957Z
UID:2608-1578614400-1578700799@www.fysicon.com
SUMMARY:Radiologische Interventie Dag Nederland
DESCRIPTION:Radiologische Interventie Dag Nederland\n10 januari 2020 \nEde\, Nederland \n \nhttps://www.ridn.nl/
URL:https://www.fysicon.com/agenda/radiologische-interventie-dag-nederland/
END:VEVENT
BEGIN:VEVENT
DTSTART;VALUE=DATE:20191006
DTEND;VALUE=DATE:20191010
DTSTAMP:20260423T164744
CREATED:20190815T105409Z
LAST-MODIFIED:20190815T105634Z
UID:2561-1570320000-1570665599@www.fysicon.com
SUMMARY:Heart Rhythm Congress
DESCRIPTION:Heart Rhythm Congress\n6 oktober – 10 oktober \nBirmingham\, Verenigd Koninkrijk \n \nhttp://www.heartrhythmcongress.org/ \n 
URL:https://www.fysicon.com/agenda/heart-rhythm-congress/
END:VEVENT
BEGIN:VEVENT
DTSTART;VALUE=DATE:20190831
DTEND;VALUE=DATE:20190905
DTSTAMP:20260423T164744
CREATED:20181205T145348Z
LAST-MODIFIED:20181210T125556Z
UID:2033-1567209600-1567641599@www.fysicon.com
SUMMARY:ESC Congress 2019
DESCRIPTION:European Society of Cardiology\nZaterdag 31 augustus –  Woensdag 4 september\nParijs – Frankrijk \n \nwww.escardio.org
URL:https://www.fysicon.com/agenda/esc-congress-2019/
END:VEVENT
BEGIN:VEVENT
DTSTART;VALUE=DATE:20190525
DTEND;VALUE=DATE:20190529
DTSTAMP:20260423T164744
CREATED:20181205T145255Z
LAST-MODIFIED:20181210T125738Z
UID:2030-1558742400-1559087999@www.fysicon.com
SUMMARY:Heart Failure 2019
DESCRIPTION:World Congress on Acute Heart Failure\nZaterdag 25 – Dinsdag 28 mei\nAthene – Griekenland \n \nwww.escadio.org
URL:https://www.fysicon.com/agenda/heart-failure-2019/
END:VEVENT
BEGIN:VEVENT
DTSTART;VALUE=DATE:20190508
DTEND;VALUE=DATE:20190512
DTSTAMP:20260423T164744
CREATED:20190508T080124Z
LAST-MODIFIED:20190508T080848Z
UID:2344-1557273600-1557619199@www.fysicon.com
SUMMARY:HRS 2019
DESCRIPTION:Heart Rhythm Scientific Sessions\n8-11 mei 2019\nSan Francisco – USA\n\n\nhttps://www.hrssessions.org/
URL:https://www.fysicon.com/agenda/hrs-2019/
END:VEVENT
BEGIN:VEVENT
DTSTART;VALUE=DATE:20190405
DTEND;VALUE=DATE:20190406
DTSTAMP:20260423T164744
CREATED:20190215T081738Z
LAST-MODIFIED:20190215T081738Z
UID:2281-1554422400-1554508799@www.fysicon.com
SUMMARY:CAG 2019
DESCRIPTION:CAG 2019\n5 april 2019\nNederland – Venlo \n \nhttps://www.cag-venlo.nl/
URL:https://www.fysicon.com/agenda/cag-2019/
END:VEVENT
BEGIN:VEVENT
DTSTART;VALUE=DATE:20190317
DTEND;VALUE=DATE:20190320
DTSTAMP:20260423T164744
CREATED:20181205T112623Z
LAST-MODIFIED:20181210T125612Z
UID:1991-1552780800-1553039999@www.fysicon.com
SUMMARY:European Heart Rhythm Association 2019
DESCRIPTION:European Heart Rhythm Association\nZondag 17 – Dinsdag 19 maart 2019\nLissabon – Portugal \n \nwww.escardio.org
URL:https://www.fysicon.com/agenda/european-heart-rhythm-association-2019/
END:VEVENT
BEGIN:VEVENT
DTSTART;VALUE=DATE:20190227
DTEND;VALUE=DATE:20190304
DTSTAMP:20260423T164744
CREATED:20190212T091237Z
LAST-MODIFIED:20190702T070340Z
UID:2274-1551225600-1551657599@www.fysicon.com
SUMMARY:ECR 2019
DESCRIPTION:European Congress of Radiology\nWoensdag 27 februari –  Zondag 3 maart\nWenen – Oostenrijk
URL:https://www.fysicon.com/agenda/ecr-2019/
END:VEVENT
END:VCALENDAR